BEGIN:VCALENDAR
VERSION:2.0
PRODID:-//hacksw/handcal//NONSGML v1.0//EN
BEGIN:VEVENT
SUMMARY:Sortie Longue HAUTEVILLE
UID:1b4dab05-a13a-40f4-a600-057f813f335b
DTSTART:20260507T220000Z
DTEND:20260508T220000Z
LOCATION:Localisation   
CATEGORIES:Sportif
STATUS:
DESCRIPTION:<p>Sortie longue Hauteville au depart de
 Douvres</p>
 
 <p>Organisation Patrick G</p>
URL;VALUE=URI:https://www.cassc.fr/evenements/2026/05/08/sortie-longue-hauteville-2433752
END:VEVENT
END:VCALENDAR
