BEGIN:VCALENDAR
VERSION:2.0
PRODID:-//hacksw/handcal//NONSGML v1.0//EN
BEGIN:VEVENT
SUMMARY:LES BALBONS DU BUGEY
UID:3bc2e408-d2eb-46e9-bbc2-1584630e0c05
DTSTART:20260430T220000Z
DTEND:20260501T220000Z
LOCATION:Localisation   
CATEGORIES:Sportif
STATUS:
DESCRIPTION:<p>Les balcons du Bugey au depart de Montalieu
 Vercieu</p>
 
 <p><a
 href="https://cyclosmontalieu.fr/les-balcons-du-bugey/"
 target="_blank" rel="noreferrer noopener">Infos Cliquez
 ICI</a></p>
 
 <p><span style="text-decoration:underline;"><strong>Les
 parcours 2026 vont bientot etre disponibles ! Un peu de
 patience…</strong></span></p>
 
 <p>Ci-dessous les parcours 2025
 :</p>
 
 <p><strong>MARCHE :</strong></p>
 
 <ul>
 	<li>Marche 8km: 90D+
 <a href="https://www.openrunner.com/route-details/20522802"
 target="_blank" rel="noreferrer noopener">(gpx)</a></li>
 	<li>Marche
 12Km: 150D+ <a
 href="https://www.openrunner.com/route-details/20569712"
 target="_blank" rel="noreferrer noopener">(gpx)</a></li>
 	<li>Marche
 18Km: 350D+ <a
 href="https://www.openrunner.com/route-details/20522810"
 target="_blank" rel="noreferrer
 noopener">(gpx)</a></li>
 </ul>
 
 <p><strong>VTT
 :</strong></p>
 
 <ul>
 	<li>VTT 20Km: 250D+ <a
 href="https://www.openrunner.com/route-details/20569729"
 target="_blank" rel="noreferrer noopener">(gpx)</a></li>
 	<li>VTT
 35Km: 500D+ <a
 href="https://www.openrunner.com/route-details/20872546"
 target="_blank" rel="noreferrer noopener">(gpx)</a></li>
 	<li>VTT
 50Km: 900D+ <a
 href="https://www.openrunner.com/route-details/20569732"
 target="_blank" rel="noreferrer noopener">(gpx)</a></li>
 	<li>VTT
 65Km: 1100D+ <a
 href="https://www.openrunner.com/route-details/21028215"
 target="_blank" rel="noreferrer
 noopener">(gpx)</a></li>
 </ul>
 
 <p><strong>ROUTE
 :</strong></p>
 
 <ul>
 	<li>Route 40Km: 520D+ <a
 href="https://www.openrunner.com/route-details/20487472"
 target="_blank" rel="noreferrer noopener">(gpx)</a></li>
 	<li>Route
 85Km: 1320D+ <a
 href="https://www.openrunner.com/route-details/20487466"
 target="_blank" rel="noreferrer noopener">(gpx)</a></li>
 	<li>Route
 115Km: 2100D+ <a
 href="https://www.openrunner.com/route-details/20487463"
 target="_blank" rel="noreferrer
 noopener">(gpx)</a></li>
 </ul>
 
 <p><strong>Tarifs
 ROUTE/VTT:</strong></p>
 
 <p>Licencie FFCT : <strong>8
 €</strong> (mineur, gratuit)</p>
 
 <p>Non Licencie : <strong>10
 €</strong> (mineur, 5€)</p>
 
 <p><strong>Tarifs MARCHE
 :</strong></p>
 
 <p>Adulte <strong>8 €</strong> (mineur,
 gratuit)</p>
 
 <p>Inscriptions et departs de 7h a 10h. Camping Vallee
 Bleue Montalieu (parkings gratuit)</p>
 
 <p>Contact:
 0629463015</p>
 
 <p><span style="text-decoration:underline;"><em>Les
 GPX serons disponibles a partir du 28/04 en soiree.</em></span></p>
URL;VALUE=URI:https://www.cassc.fr/evenements/2026/05/01/les-balbons-du-bugey-2442633
END:VEVENT
END:VCALENDAR
