BEGIN:VCALENDAR
VERSION:2.0
PRODID:-//hacksw/handcal//NONSGML v1.0//EN
BEGIN:VEVENT
SUMMARY:VENDREDI Sortie CROIX REGIS
UID:5ec4a856-3c84-4df0-86ba-d9ea991e2183
DTSTART:20260416T220000Z
DTEND:20260417T220000Z
LOCATION:Localisation   
CATEGORIES:Sportif
STATUS:
DESCRIPTION:<h2>SORTIE REPORTEE a VENDREDI</h2>
 
 <h2><span
 style="font-size:16px;">Depart du club a 9h45 en
 velo.</span></h2>
 
 <p><span style="font-size:16px;">Casse croute en
 poche.</span></p>
 
 <p><a
 href="https://www.openrunner.com/route-details/23754238"
 target="_blank" rel="noreferrer noopener"><span
 style="font-size:16px;">Identifiant openrunner : 2374238     97.08
 kms      Denivele positif : 879 m</span></a></p>
 
 <p><span
 style="font-size:16px;">Givors - Croix Regis - Le
 Bourrin</span></p>
 
 <p><span style="font-size:16px;"> Parcours
 propose par Jacky COAT</span></p>
URL;VALUE=URI:https://www.cassc.fr/evenements/2026/04/17/vendredi-sortie-croix-regis-2424478
END:VEVENT
END:VCALENDAR
