BEGIN:VCALENDAR
VERSION:2.0
PRODID:-//hacksw/handcal//NONSGML v1.0//EN
BEGIN:VEVENT
SUMMARY:Reunion commission voyages
UID:20961814-040f-4b5b-a796-3c1563d6e296
DTSTART:20260303T160000Z
DTEND:20260303T170000Z
LOCATION:Localisation   
CATEGORIES:Administratif
STATUS:
URL;VALUE=URI:https://www.cassc.fr/evenements/2026/03/03/reunion-commission-voyages-2421853
END:VEVENT
END:VCALENDAR
